BEGIN:VCALENDAR
VERSION:2.0
PRODID:-//wp-events-plugin.com//7.2.3.1//EN
TZID:America/Chicago
X-WR-TIMEZONE:America/Chicago
BEGIN:VEVENT
UID:3699@humbleseniorcenter.com
DTSTART;TZID=America/Chicago:20240501T110000
DTEND;TZID=America/Chicago:20240501T120000
DTSTAMP:20231206T105945Z
URL:https://www.humbleseniorcenter.com/events/self-defense-2-2024-05-01/
SUMMARY:Self Defense
DESCRIPTION:
CATEGORIES:Senior Event Calendar
LOCATION:Humble Civic Center & Arena Complex (Civic Center)\, 8233 Will Cla
 yton Pkwy\, Humble\, Texas\, 77338\, Harris County\, United States
X-APPLE-STRUCTURED-LOCATION;VALUE=URI;X-ADDRESS=8233 Will Clayton Pkwy\, Hu
 mble\, Texas\, 77338\, Harris County\, United States;X-APPLE-RADIUS=100;X-
 TITLE=Humble Civic Center & Arena Complex (Civic Center):geo:0,0
END:VEVENT
BEGIN:VTIMEZONE
TZID:America/Chicago
X-LIC-LOCATION:America/Chicago
BEGIN:DAYLIGHT
DTSTART:20240310T030000
TZOFFSETFROM:-0600
TZOFFSETTO:-0500
TZNAME:CDT
END:DAYLIGHT
END:VTIMEZONE
END:VCALENDAR